BEGIN:VCALENDAR
VERSION:2.0
PRODID:-//PetRock - ECPv6.14.0//NONSGML v1.0//EN
CALSCALE:GREGORIAN
METHOD:PUBLISH
X-ORIGINAL-URL:https://petrockband.com
X-WR-CALDESC:Events for PetRock
REFRESH-INTERVAL;VALUE=DURATION:PT1H
X-Robots-Tag:noindex
X-PUBLISHED-TTL:PT1H
BEGIN:VTIMEZONE
TZID:America/Chicago
BEGIN:DAYLIGHT
TZOFFSETFROM:-0600
TZOFFSETTO:-0500
TZNAME:CDT
DTSTART:20260308T080000
END:DAYLIGHT
BEGIN:STANDARD
TZOFFSETFROM:-0500
TZOFFSETTO:-0600
TZNAME:CST
DTSTART:20261101T070000
END:STANDARD
END:VTIMEZONE
BEGIN:VEVENT
DTSTART;TZID=America/Chicago:20260606T190000
DTEND;TZID=America/Chicago:20260606T220000
DTSTAMP:20260423T041306
CREATED:20260414T163101Z
LAST-MODIFIED:20260414T173831Z
UID:2495-1780772400-1780783200@petrockband.com
SUMMARY:Missouri Valley\, IA
DESCRIPTION:Tickets are available at the event gate. Cash or card please.
URL:https://petrockband.com/event/missouri-valley-ia-2/
LOCATION:Missouri Valley City Park Grandstand\, 602 W Huron St\, Missouri Valley\, Iowa\, 51555
ATTACH;FMTTYPE=image/png:https://petrockband.com/wp-content/uploads/2026/04/DRIFTERFEST-2026.png
ORGANIZER;CN="Drifters car Club":MAILTO:drifterscarclubmv@gmail.com
END:VEVENT
BEGIN:VEVENT
DTSTART;TZID=America/Chicago:20260613T190000
DTEND;TZID=America/Chicago:20260613T210000
DTSTAMP:20260423T041306
CREATED:20260422T171500Z
LAST-MODIFIED:20260422T181000Z
UID:2509-1781377200-1781384400@petrockband.com
SUMMARY:Glenwood\, IA
DESCRIPTION:Tickets can purchased at the door or for more information\, please email Amphitheater Manager.
URL:https://petrockband.com/event/glenwood-ia-3/
LOCATION:Davies Amphitheater\, Glenwood\, Iowa\, 51534\, United States
ATTACH;FMTTYPE=image/gif:https://petrockband.com/wp-content/uploads/2023/11/CoolSoftRock-sm.gif
END:VEVENT
BEGIN:VEVENT
DTSTART;TZID=America/Chicago:20260619T180000
DTEND;TZID=America/Chicago:20260619T203000
DTSTAMP:20260423T041306
CREATED:20260422T172314Z
LAST-MODIFIED:20260422T172315Z
UID:2516-1781892000-1781901000@petrockband.com
SUMMARY:Omaha\, NE
DESCRIPTION:
URL:https://petrockband.com/event/omaha-ne-19/
LOCATION:The Matt\, 501 N 13th Street\, Omaha\, Nebraska\, 68102\, United States
ATTACH;FMTTYPE=image/gif:https://petrockband.com/wp-content/uploads/2023/11/CoolSoftRock-sm.gif
END:VEVENT
BEGIN:VEVENT
DTSTART;TZID=America/Chicago:20260627T000000
DTEND;TZID=America/Chicago:20260627T235959
DTSTAMP:20260423T041306
CREATED:20260422T171641Z
LAST-MODIFIED:20260422T171641Z
UID:2512-1782518400-1782604799@petrockband.com
SUMMARY:PRIVATE EVENT
DESCRIPTION:
URL:https://petrockband.com/event/private-event-14/
LOCATION:Missouri
ATTACH;FMTTYPE=image/jpeg:https://petrockband.com/wp-content/uploads/2023/01/Petrock_Poster-PRIVATE-EVENT.jpg
END:VEVENT
BEGIN:VEVENT
DTSTART;TZID=America/Chicago:20260628T190000
DTEND;TZID=America/Chicago:20260628T220000
DTSTAMP:20260423T041306
CREATED:20260422T171834Z
LAST-MODIFIED:20260422T171836Z
UID:2514-1782673200-1782684000@petrockband.com
SUMMARY:Council Bluffs\, IA
DESCRIPTION:
URL:https://petrockband.com/event/council-bluffs-ia-3/
LOCATION:The Dock Bar and Grill\, 401 Veterans Memorial Highway\, Council Bluffs\, Iowa\, 51501\, United States
ATTACH;FMTTYPE=image/gif:https://petrockband.com/wp-content/uploads/2023/11/CoolSoftRock-sm.gif
END:VEVENT
BEGIN:VEVENT
DTSTART;TZID=America/Chicago:20261009T193000
DTEND;TZID=America/Chicago:20261009T220000
DTSTAMP:20260423T041306
CREATED:20260312T021540Z
LAST-MODIFIED:20260312T021825Z
UID:2481-1791574200-1791583200@petrockband.com
SUMMARY:Omaha\, NE
DESCRIPTION:
URL:https://petrockband.com/event/omaha-ne-18/
LOCATION:Holland Performing Arts Center\, 1200 Douglas Street\, Omaha\, Nebraska\, 68102\, United States
ATTACH;FMTTYPE=image/png:https://petrockband.com/wp-content/uploads/2026/03/7390148991358995955.png
END:VEVENT
END:VCALENDAR