BEGIN:VCALENDAR
VERSION:2.0
PRODID:-//PetRock - ECPv6.14.0//NONSGML v1.0//EN
CALSCALE:GREGORIAN
METHOD:PUBLISH
X-ORIGINAL-URL:https://petrockband.com
X-WR-CALDESC:Events for PetRock
REFRESH-INTERVAL;VALUE=DURATION:PT1H
X-Robots-Tag:noindex
X-PUBLISHED-TTL:PT1H
BEGIN:VTIMEZONE
TZID:America/Chicago
BEGIN:DAYLIGHT
TZOFFSETFROM:-0600
TZOFFSETTO:-0500
TZNAME:CDT
DTSTART:20240310T080000
END:DAYLIGHT
BEGIN:STANDARD
TZOFFSETFROM:-0500
TZOFFSETTO:-0600
TZNAME:CST
DTSTART:20241103T070000
END:STANDARD
END:VTIMEZONE
BEGIN:VEVENT
DTSTART;TZID=America/Chicago:20241207T200000
DTEND;TZID=America/Chicago:20241207T230000
DTSTAMP:20260423T103144
CREATED:20241005T163636Z
LAST-MODIFIED:20241117T191000Z
UID:1784-1733601600-1733612400@petrockband.com
SUMMARY:Des Moines\, IA
DESCRIPTION:Doors 7:00
URL:https://petrockband.com/event/des-moines-ia-4/
LOCATION:Wooly’s\, 504 E Locust Street\, Des Moines\, IA\, 50309\, United States
ATTACH;FMTTYPE=image/jpeg:https://petrockband.com/wp-content/uploads/2024/10/WOOLYS-DEC-2024.jpg
END:VEVENT
BEGIN:VEVENT
DTSTART;TZID=America/Chicago:20241220T200000
DTEND;TZID=America/Chicago:20241220T230000
DTSTAMP:20260423T103144
CREATED:20240904T180844Z
LAST-MODIFIED:20240906T145116Z
UID:1767-1734724800-1734735600@petrockband.com
SUMMARY:Omaha\, NE
DESCRIPTION:Night one of our annual Holiday Spectacular show! Two nights\, no repeats \n\n\n\nDoors: 6:30All ages \n\n\n\n*All Pitside and Balcony Ticket Holders get early 5:30pm VIP entry and attendance to the Maestro’s special pre-show holiday set!
URL:https://petrockband.com/event/omaha-ne-10/
LOCATION:Slowdown\, 729 N. 14th Street\, Omaha\, NE\, 68102\, United States
ATTACH;FMTTYPE=image/jpeg:https://petrockband.com/wp-content/uploads/2024/09/PetRock-Holiday_Spectacular-24-scaled.jpg
END:VEVENT
BEGIN:VEVENT
DTSTART;TZID=America/Chicago:20241221T200000
DTEND;TZID=America/Chicago:20241221T230000
DTSTAMP:20260423T103144
CREATED:20240904T181058Z
LAST-MODIFIED:20240906T145047Z
UID:1770-1734811200-1734822000@petrockband.com
SUMMARY:Omaha\, NE
DESCRIPTION:Night two of our annual Holiday Spectacular show! Two nights\, no repeats \n\n\n\nDoors: 6:30All ages \n\n\n\n*All Pitside and Balcony Ticket Holders get early 5:30pm VIP entry and attendance to the Maestro’s special pre-show holiday set!
URL:https://petrockband.com/event/omaha-ne-11/
LOCATION:Slowdown\, 729 N. 14th Street\, Omaha\, NE\, 68102\, United States
ATTACH;FMTTYPE=image/jpeg:https://petrockband.com/wp-content/uploads/2024/09/PetRock-Holiday_Spectacular-24-scaled.jpg
END:VEVENT
END:VCALENDAR