BEGIN:VCALENDAR
VERSION:2.0
PRODID:-//PetRock - ECPv6.14.0//NONSGML v1.0//EN
CALSCALE:GREGORIAN
METHOD:PUBLISH
X-WR-CALNAME:PetRock
X-ORIGINAL-URL:https://petrockband.com
X-WR-CALDESC:Events for PetRock
REFRESH-INTERVAL;VALUE=DURATION:PT1H
X-Robots-Tag:noindex
X-PUBLISHED-TTL:PT1H
BEGIN:VTIMEZONE
TZID:America/Chicago
BEGIN:DAYLIGHT
TZOFFSETFROM:-0600
TZOFFSETTO:-0500
TZNAME:CDT
DTSTART:20250309T080000
END:DAYLIGHT
BEGIN:STANDARD
TZOFFSETFROM:-0500
TZOFFSETTO:-0600
TZNAME:CST
DTSTART:20251102T070000
END:STANDARD
END:VTIMEZONE
BEGIN:VEVENT
DTSTART;TZID=America/Chicago:20251212T200000
DTEND;TZID=America/Chicago:20251212T213000
DTSTAMP:20260421T071221
CREATED:20250929T165914Z
LAST-MODIFIED:20251209T182157Z
UID:2351-1765569600-1765575000@petrockband.com
SUMMARY:Sioux City\, IA
DESCRIPTION:The Smooth train is rolling into Sioux City\, Iowa\, once again for a night of unforgettable smooth 70’s music at Anthem at the Hard Rock Casino!
URL:https://petrockband.com/event/sioux-city-ia-4/
LOCATION:Hard Rock Casino\, 111 3rd St.\, Sioux City\, Iowa\, 51101\, United States
ATTACH;FMTTYPE=image/jpeg:https://petrockband.com/wp-content/uploads/2025/09/HARD-ROCK-DEC-2025-WEB-VERSION.jpg
END:VEVENT
BEGIN:VEVENT
DTSTART;TZID=America/Chicago:20251213T193000
DTEND;TZID=America/Chicago:20251213T220000
DTSTAMP:20260421T071221
CREATED:20250930T003736Z
LAST-MODIFIED:20250930T161842Z
UID:2354-1765654200-1765663200@petrockband.com
SUMMARY:DesMoines\, IA
DESCRIPTION:
URL:https://petrockband.com/event/desmoines-ia-2/
LOCATION:Val Air Ballroom\, 301 Ashworth Rd\, West DesMoines\, Iowa\, 50265\, United States
ATTACH;FMTTYPE=image/jpeg:https://petrockband.com/wp-content/uploads/2025/09/PETROCK_POSTER.jpg
END:VEVENT
BEGIN:VEVENT
DTSTART;TZID=America/Chicago:20251219T193000
DTEND;TZID=America/Chicago:20251219T223000
DTSTAMP:20260421T071221
CREATED:20250925T035920Z
LAST-MODIFIED:20250925T035920Z
UID:2330-1766172600-1766183400@petrockband.com
SUMMARY:Omaha\, NE
DESCRIPTION:
URL:https://petrockband.com/event/omaha-ne-16/
LOCATION:Slowdown\, 729 N. 14th Street\, Omaha\, NE\, 68102\, United States
ATTACH;FMTTYPE=image/jpeg:https://petrockband.com/wp-content/uploads/2025/09/PetRock-Holiday-Spectacular-25-scaled.jpg
END:VEVENT
BEGIN:VEVENT
DTSTART;TZID=America/Chicago:20251220T193000
DTEND;TZID=America/Chicago:20251220T223000
DTSTAMP:20260421T071221
CREATED:20250925T035834Z
LAST-MODIFIED:20250925T035835Z
UID:2332-1766259000-1766269800@petrockband.com
SUMMARY:Omaha\, NE
DESCRIPTION:
URL:https://petrockband.com/event/omaha-ne-15/
LOCATION:Slowdown\, 729 N. 14th Street\, Omaha\, NE\, 68102\, United States
ATTACH;FMTTYPE=image/jpeg:https://petrockband.com/wp-content/uploads/2025/09/PetRock-Holiday-Spectacular-25-scaled.jpg
END:VEVENT
END:VCALENDAR