BEGIN:VCALENDAR
VERSION:2.0
PRODID:-//PetRock - ECPv6.14.0//NONSGML v1.0//EN
CALSCALE:GREGORIAN
METHOD:PUBLISH
X-WR-CALNAME:PetRock
X-ORIGINAL-URL:https://petrockband.com
X-WR-CALDESC:Events for PetRock
REFRESH-INTERVAL;VALUE=DURATION:PT1H
X-Robots-Tag:noindex
X-PUBLISHED-TTL:PT1H
BEGIN:VTIMEZONE
TZID:America/Chicago
BEGIN:DAYLIGHT
TZOFFSETFROM:-0600
TZOFFSETTO:-0500
TZNAME:CDT
DTSTART:20260308T080000
END:DAYLIGHT
BEGIN:STANDARD
TZOFFSETFROM:-0500
TZOFFSETTO:-0600
TZNAME:CST
DTSTART:20261101T070000
END:STANDARD
END:VTIMEZONE
BEGIN:VEVENT
DTSTART;TZID=America/Chicago:20260207T193000
DTEND;TZID=America/Chicago:20260207T220000
DTSTAMP:20260424T035030
CREATED:20251214T174637Z
LAST-MODIFIED:20251214T174746Z
UID:2402-1770492600-1770501600@petrockband.com
SUMMARY:Sioux Falls\, SD
DESCRIPTION:
URL:https://petrockband.com/event/sioux-falls-sd-4/
LOCATION:The District\, 4521 W Empire Pl\, Sioux Falls\, 57106
ATTACH;FMTTYPE=image/jpeg:https://petrockband.com/wp-content/uploads/2025/12/DISTRICT-FEB-7TH-2026-POSTER-SMALL.jpg
END:VEVENT
BEGIN:VEVENT
DTSTART;TZID=America/Chicago:20260214T193000
DTEND;TZID=America/Chicago:20260214T213000
DTSTAMP:20260424T035030
CREATED:20251223T204128Z
LAST-MODIFIED:20251224T173937Z
UID:2407-1771097400-1771104600@petrockband.com
SUMMARY:La Vista\, NE
DESCRIPTION:
URL:https://petrockband.com/event/la-vista-ne/
LOCATION:The Astro Theater\, 8302 City Centre Drive\, La Vista\, Nebraska\, 68128
ATTACH;FMTTYPE=image/jpeg:https://petrockband.com/wp-content/uploads/2025/12/PetRock_ELO-POSTER-scaled.jpeg
END:VEVENT
BEGIN:VEVENT
DTSTART;TZID=America/Chicago:20260221T193000
DTEND;TZID=America/Chicago:20260221T220000
DTSTAMP:20260424T035030
CREATED:20250822T162739Z
LAST-MODIFIED:20250822T163313Z
UID:2280-1771702200-1771711200@petrockband.com
SUMMARY:Cedar Rapids\, IA
DESCRIPTION:
URL:https://petrockband.com/event/cedar-rapids-ia-2/
LOCATION:Paramount Theatre\, 370 1st Avenue NE\, Cedar Rapids\, Iowa\, 52401\, United States
ATTACH;FMTTYPE=image/jpeg:https://petrockband.com/wp-content/uploads/2025/08/paramount-Feb-2026-11X17-POSTER-JPEG-scaled.jpg
END:VEVENT
BEGIN:VEVENT
DTSTART;TZID=America/Chicago:20260228T200000
DTEND;TZID=America/Chicago:20260228T223000
DTSTAMP:20260424T035030
CREATED:20250814T164612Z
LAST-MODIFIED:20251129T011458Z
UID:2270-1772308800-1772317800@petrockband.com
SUMMARY:Dubuque\, IA
DESCRIPTION:MUST STAY IN ASSIGNED SECTIONNO REFUNDS OR EXCHANGESNO SMOKING21 AND OVER SHOW
URL:https://petrockband.com/event/dubuque-ia-2/
LOCATION:Diamond Jo Casino\, 301 Bell St\, Dubuque\, Iowa\, 52001-7004\, United States
ATTACH;FMTTYPE=image/jpeg:https://petrockband.com/wp-content/uploads/2025/08/dUBUQUE-fEB-28-2026-final-scaled.jpg
END:VEVENT
END:VCALENDAR